BEGIN:VCALENDAR
VERSION:2.0
PRODID:-//Na Odru - ECPv6.7.0//NONSGML v1.0//EN
CALSCALE:GREGORIAN
METHOD:PUBLISH
X-ORIGINAL-URL:https://naodru.si
X-WR-CALDESC:Events for Na Odru
REFRESH-INTERVAL;VALUE=DURATION:PT1H
X-Robots-Tag:noindex
X-PUBLISHED-TTL:PT1H
BEGIN:VTIMEZONE
TZID:Europe/Paris
BEGIN:DAYLIGHT
TZOFFSETFROM:+0100
TZOFFSETTO:+0200
TZNAME:CEST
DTSTART:20260329T010000
END:DAYLIGHT
BEGIN:STANDARD
TZOFFSETFROM:+0200
TZOFFSETTO:+0100
TZNAME:CET
DTSTART:20261025T010000
END:STANDARD
END:VTIMEZONE
BEGIN:VEVENT
DTSTART;VALUE=DATE:20260522
DTEND;VALUE=DATE:20260523
DTSTAMP:20260421T132156
CREATED:20251212T090852Z
LAST-MODIFIED:20260302T105317Z
UID:9231-1779408000-1779494399@naodru.si
SUMMARY:SAŠA MATIĆ
DESCRIPTION:
URL:https://naodru.si/dogodek/sasa-matic/
LOCATION:Dvorana Tabor Maribor
CATEGORIES:Aktualni dogodki
ATTACH;FMTTYPE=image/jpeg:https://naodru.si/wp-content/uploads/2026/03/Sasa-Matic-Tabor_web_500-x-429_14.jpg
END:VEVENT
BEGIN:VEVENT
DTSTART;VALUE=DATE:20260529
DTEND;VALUE=DATE:20260530
DTSTAMP:20260421T132156
CREATED:20251212T090911Z
LAST-MODIFIED:20260302T114545Z
UID:9237-1780012800-1780099199@naodru.si
SUMMARY:ŽAN SERČIČ
DESCRIPTION:
URL:https://naodru.si/dogodek/zan-sercic-3/
LOCATION:Grad Brežice
CATEGORIES:Aktualni dogodki
ATTACH;FMTTYPE=image/jpeg:https://naodru.si/wp-content/uploads/2026/03/Zan-Sercic-WEB_Brezice_500-x-429_13.jpg
END:VEVENT
BEGIN:VEVENT
DTSTART;VALUE=DATE:20260530
DTEND;VALUE=DATE:20260531
DTSTAMP:20260421T132156
CREATED:20251212T091032Z
LAST-MODIFIED:20260302T115339Z
UID:9244-1780099200-1780185599@naodru.si
SUMMARY:ŽAN SERČIČ
DESCRIPTION:
URL:https://naodru.si/dogodek/zan-sercic-3-2/
LOCATION:Kranj
CATEGORIES:Aktualni dogodki
ATTACH;FMTTYPE=image/jpeg:https://naodru.si/wp-content/uploads/2026/03/Zan-Sercic-Eventim_Kranj_500-x-429_13.jpg
END:VEVENT
BEGIN:VEVENT
DTSTART;VALUE=DATE:20260612
DTEND;VALUE=DATE:20260613
DTSTAMP:20260421T132156
CREATED:20251212T091114Z
LAST-MODIFIED:20260302T121054Z
UID:9251-1781222400-1781308799@naodru.si
SUMMARY:ŽAN SERČIČ
DESCRIPTION:
URL:https://naodru.si/dogodek/zan-sercic-3-2-2/
LOCATION:Nazarje
CATEGORIES:Aktualni dogodki
ATTACH;FMTTYPE=image/jpeg:https://naodru.si/wp-content/uploads/2026/03/Zan-Sercic-Eventim-Nazarje_500-x-429_13.jpg
END:VEVENT
BEGIN:VEVENT
DTSTART;VALUE=DATE:20260612
DTEND;VALUE=DATE:20260613
DTSTAMP:20260421T132156
CREATED:20251212T095716Z
LAST-MODIFIED:20251212T095716Z
UID:9082-1781222400-1781308799@naodru.si
SUMMARY:MI2 CELJE
DESCRIPTION:
URL:https://naodru.si/dogodek/mi2-celje/
LOCATION:Grad Celje
CATEGORIES:Aktualni dogodki
ATTACH;FMTTYPE=image/webp:https://naodru.si/wp-content/uploads/2025/12/7.webp
END:VEVENT
BEGIN:VEVENT
DTSTART;VALUE=DATE:20260613
DTEND;VALUE=DATE:20260614
DTSTAMP:20260421T132156
CREATED:20251212T091236Z
LAST-MODIFIED:20260302T121555Z
UID:9258-1781308800-1781395199@naodru.si
SUMMARY:ŽAN SERČIČ
DESCRIPTION:
URL:https://naodru.si/dogodek/zan-sercic-5/
LOCATION:Idrija
CATEGORIES:Aktualni dogodki
ATTACH;FMTTYPE=image/jpeg:https://naodru.si/wp-content/uploads/2026/03/Zan-Sercic-Web-Idrija_500-x-429_13.jpg
END:VEVENT
BEGIN:VEVENT
DTSTART;VALUE=DATE:20260613
DTEND;VALUE=DATE:20260614
DTSTAMP:20260421T132156
CREATED:20251212T100206Z
LAST-MODIFIED:20251212T100206Z
UID:9090-1781308800-1781395199@naodru.si
SUMMARY:MI2 PORTOROŽ
DESCRIPTION:
URL:https://naodru.si/dogodek/mi2-portoroz/
LOCATION:Avditorij Portorož
CATEGORIES:Aktualni dogodki
ATTACH;FMTTYPE=image/webp:https://naodru.si/wp-content/uploads/2025/12/6.webp
END:VEVENT
BEGIN:VEVENT
DTSTART;VALUE=DATE:20260620
DTEND;VALUE=DATE:20260621
DTSTAMP:20260421T132156
CREATED:20251212T100330Z
LAST-MODIFIED:20260302T122110Z
UID:9265-1781913600-1781999999@naodru.si
SUMMARY:ŽAN SERČIČ
DESCRIPTION:
URL:https://naodru.si/dogodek/zan-sercic-6/
LOCATION:Ajdovščina
CATEGORIES:Aktualni dogodki
ATTACH;FMTTYPE=image/jpeg:https://naodru.si/wp-content/uploads/2026/03/Zan-Sercic-Vipava_500-x-429_13.jpg
END:VEVENT
BEGIN:VEVENT
DTSTART;VALUE=DATE:20260624
DTEND;VALUE=DATE:20260625
DTSTAMP:20260421T132156
CREATED:20251212T100430Z
LAST-MODIFIED:20260302T122512Z
UID:9272-1782259200-1782345599@naodru.si
SUMMARY:ŽAN SERČIČ
DESCRIPTION:
URL:https://naodru.si/dogodek/zan-sercic-6-2/
LOCATION:Domžale
CATEGORIES:Aktualni dogodki
ATTACH;FMTTYPE=image/jpeg:https://naodru.si/wp-content/uploads/2026/03/Zan-Sercic-WEBKrtina_500-x-429_13.jpg
END:VEVENT
BEGIN:VEVENT
DTSTART;VALUE=DATE:20260626
DTEND;VALUE=DATE:20260627
DTSTAMP:20260421T132156
CREATED:20251212T100517Z
LAST-MODIFIED:20260302T122902Z
UID:9277-1782432000-1782518399@naodru.si
SUMMARY:ŽAN SERČIČ
DESCRIPTION:
URL:https://naodru.si/dogodek/zan-sercic-6-2-2/
LOCATION:Bogenšperk
CATEGORIES:Aktualni dogodki
ATTACH;FMTTYPE=image/jpeg:https://naodru.si/wp-content/uploads/2026/03/Zan-Sercic-Web-Bogensperk_500-x-429_13.jpg
END:VEVENT
BEGIN:VEVENT
DTSTART;VALUE=DATE:20260703
DTEND;VALUE=DATE:20260704
DTSTAMP:20260421T132156
CREATED:20251212T100627Z
LAST-MODIFIED:20251212T100627Z
UID:9097-1783036800-1783123199@naodru.si
SUMMARY:MI2 BOGENŠPERK
DESCRIPTION:
URL:https://naodru.si/dogodek/mi2-bogensperk/
LOCATION:Grad Bogenšperk
CATEGORIES:Aktualni dogodki
ATTACH;FMTTYPE=image/webp:https://naodru.si/wp-content/uploads/2025/12/5.webp
END:VEVENT
BEGIN:VEVENT
DTSTART;VALUE=DATE:20260731
DTEND;VALUE=DATE:20260801
DTSTAMP:20260421T132156
CREATED:20251212T100758Z
LAST-MODIFIED:20260302T123638Z
UID:9286-1785456000-1785542399@naodru.si
SUMMARY:ŽAN SERČIČ
DESCRIPTION:
URL:https://naodru.si/dogodek/zan-sercic-7/
LOCATION:Izola
CATEGORIES:Aktualni dogodki
ATTACH;FMTTYPE=image/jpeg:https://naodru.si/wp-content/uploads/2026/03/Zan-SercicWeb-IZOLA_500-x-429_13.jpg
END:VEVENT
BEGIN:VEVENT
DTSTART;VALUE=DATE:20260905
DTEND;VALUE=DATE:20260906
DTSTAMP:20260421T132156
CREATED:20251212T104247Z
LAST-MODIFIED:20260302T124030Z
UID:9105-1788566400-1788652799@naodru.si
SUMMARY:MI2 ŠKOFJA LOKA
DESCRIPTION:
URL:https://naodru.si/dogodek/mi2-skofja-loka/
LOCATION:Grad Škofja Loka
CATEGORIES:Aktualni dogodki
ATTACH;FMTTYPE=image/webp:https://naodru.si/wp-content/uploads/2025/12/4.webp
END:VEVENT
BEGIN:VEVENT
DTSTART;VALUE=DATE:20260911
DTEND;VALUE=DATE:20260912
DTSTAMP:20260421T132156
CREATED:20251212T104358Z
LAST-MODIFIED:20260302T124105Z
UID:9293-1789084800-1789171199@naodru.si
SUMMARY:ŽAN SERČIČ
DESCRIPTION:
URL:https://naodru.si/dogodek/zan-sercic-8/
LOCATION:Vurberk
CATEGORIES:Aktualni dogodki
ATTACH;FMTTYPE=image/jpeg:https://naodru.si/wp-content/uploads/2026/03/Zan-Sercic-Web-Vurberk_500-x-429_13.jpg
END:VEVENT
BEGIN:VEVENT
DTSTART;VALUE=DATE:20260912
DTEND;VALUE=DATE:20260913
DTSTAMP:20260421T132156
CREATED:20251212T104905Z
LAST-MODIFIED:20251212T104905Z
UID:9112-1789171200-1789257599@naodru.si
SUMMARY:MI2 VURBERK
DESCRIPTION:
URL:https://naodru.si/dogodek/mi2-vurberk/
LOCATION:Grad Vurberk
CATEGORIES:Aktualni dogodki
ATTACH;FMTTYPE=image/webp:https://naodru.si/wp-content/uploads/2025/12/3-1.webp
END:VEVENT
BEGIN:VEVENT
DTSTART;VALUE=DATE:20260919
DTEND;VALUE=DATE:20260920
DTSTAMP:20260421T132156
CREATED:20251212T105229Z
LAST-MODIFIED:20251212T105229Z
UID:9119-1789776000-1789862399@naodru.si
SUMMARY:MI2 DOMŽALE
DESCRIPTION:
URL:https://naodru.si/dogodek/mi2-domzale/
LOCATION:Poletno gledališče Studenec
CATEGORIES:Aktualni dogodki
ATTACH;FMTTYPE=image/webp:https://naodru.si/wp-content/uploads/2025/12/2.webp
END:VEVENT
BEGIN:VEVENT
DTSTART;VALUE=DATE:20261002
DTEND;VALUE=DATE:20261003
DTSTAMP:20260421T132156
CREATED:20251212T105344Z
LAST-MODIFIED:20260319T091949Z
UID:9071-1790899200-1790985599@naodru.si
SUMMARY:MI2 SLOVENJ GRADEC
DESCRIPTION:
URL:https://naodru.si/dogodek/mi2-5/
LOCATION:Športna dvorana Slovenj Gradec
CATEGORIES:Aktualni dogodki
ATTACH;FMTTYPE=image/webp:https://naodru.si/wp-content/uploads/2025/12/Mi2_Slovenj-Gradec_500-x-429-copy.webp
END:VEVENT
BEGIN:VEVENT
DTSTART;VALUE=DATE:20261003
DTEND;VALUE=DATE:20261004
DTSTAMP:20260421T132156
CREATED:20260302T124354Z
LAST-MODIFIED:20260302T124354Z
UID:9300-1790985600-1791071999@naodru.si
SUMMARY:ŽAN SERČIČ
DESCRIPTION:
URL:https://naodru.si/dogodek/zan-sercic-9/
LOCATION:Murska Sobota
CATEGORIES:Aktualni dogodki
ATTACH;FMTTYPE=image/jpeg:https://naodru.si/wp-content/uploads/2026/03/Zan-Sercic-Web-Murska-Sobota_500-x-429_13.jpg
END:VEVENT
BEGIN:VEVENT
DTSTART;VALUE=DATE:20261017
DTEND;VALUE=DATE:20261018
DTSTAMP:20260421T132156
CREATED:20251212T090800Z
LAST-MODIFIED:20260330T093334Z
UID:9194-1792195200-1792281599@naodru.si
SUMMARY:PLAVI ORKESTAR
DESCRIPTION:
URL:https://naodru.si/dogodek/plavi-orkestar/
LOCATION:Dvorana Golovec Celje
CATEGORIES:Aktualni dogodki
ATTACH;FMTTYPE=image/webp:https://naodru.si/wp-content/uploads/2025/12/Plavi-Orkestar_Celje_500-x-429.webp
END:VEVENT
END:VCALENDAR