BEGIN:VCALENDAR
VERSION:2.0
PRODID:-//Na Odru - ECPv6.7.0//NONSGML v1.0//EN
CALSCALE:GREGORIAN
METHOD:PUBLISH
X-ORIGINAL-URL:https://naodru.si
X-WR-CALDESC:Events for Na Odru
REFRESH-INTERVAL;VALUE=DURATION:PT1H
X-Robots-Tag:noindex
X-PUBLISHED-TTL:PT1H
BEGIN:VTIMEZONE
TZID:Europe/Paris
BEGIN:DAYLIGHT
TZOFFSETFROM:+0100
TZOFFSETTO:+0200
TZNAME:CEST
DTSTART:20260329T010000
END:DAYLIGHT
BEGIN:STANDARD
TZOFFSETFROM:+0200
TZOFFSETTO:+0100
TZNAME:CET
DTSTART:20261025T010000
END:STANDARD
END:VTIMEZONE
BEGIN:VEVENT
DTSTART;VALUE=DATE:20261017
DTEND;VALUE=DATE:20261018
DTSTAMP:20260422T021247
CREATED:20251212T090800Z
LAST-MODIFIED:20260330T093334Z
UID:9194-1792195200-1792281599@naodru.si
SUMMARY:PLAVI ORKESTAR
DESCRIPTION:
URL:https://naodru.si/dogodek/plavi-orkestar/
LOCATION:Dvorana Golovec Celje
CATEGORIES:Aktualni dogodki
ATTACH;FMTTYPE=image/webp:https://naodru.si/wp-content/uploads/2025/12/Plavi-Orkestar_Celje_500-x-429.webp
END:VEVENT
END:VCALENDAR