BEGIN:VCALENDAR
VERSION:2.0
PRODID:-//Na Odru - ECPv6.7.0//NONSGML v1.0//EN
CALSCALE:GREGORIAN
METHOD:PUBLISH
X-WR-CALNAME:Na Odru
X-ORIGINAL-URL:https://naodru.si
X-WR-CALDESC:Events for Na Odru
REFRESH-INTERVAL;VALUE=DURATION:PT1H
X-Robots-Tag:noindex
X-PUBLISHED-TTL:PT1H
BEGIN:VTIMEZONE
TZID:Europe/Paris
BEGIN:DAYLIGHT
TZOFFSETFROM:+0100
TZOFFSETTO:+0200
TZNAME:CEST
DTSTART:20260329T010000
END:DAYLIGHT
BEGIN:STANDARD
TZOFFSETFROM:+0200
TZOFFSETTO:+0100
TZNAME:CET
DTSTART:20261025T010000
END:STANDARD
END:VTIMEZONE
BEGIN:VEVENT
DTSTART;VALUE=DATE:20260919
DTEND;VALUE=DATE:20260920
DTSTAMP:20260422T003816
CREATED:20251212T105229Z
LAST-MODIFIED:20251212T105229Z
UID:9119-1789776000-1789862399@naodru.si
SUMMARY:MI2 DOMŽALE
DESCRIPTION:
URL:https://naodru.si/dogodek/mi2-domzale/
LOCATION:Poletno gledališče Studenec
CATEGORIES:Aktualni dogodki
ATTACH;FMTTYPE=image/webp:https://naodru.si/wp-content/uploads/2025/12/2.webp
END:VEVENT
END:VCALENDAR